BEGIN:VCALENDAR
VERSION:2.0
PRODID:-//Crypto NFT Factory - ECPv6.15.17.1//NONSGML v1.0//EN
CALSCALE:GREGORIAN
METHOD:PUBLISH
X-ORIGINAL-URL:https://cnftfactory.com
X-WR-CALDESC:Events for Crypto NFT Factory
REFRESH-INTERVAL;VALUE=DURATION:PT1H
X-Robots-Tag:noindex
X-PUBLISHED-TTL:PT1H
BEGIN:VTIMEZONE
TZID:UTC
BEGIN:STANDARD
TZOFFSETFROM:+0000
TZOFFSETTO:+0000
TZNAME:UTC
DTSTART:20230101T000000
END:STANDARD
END:VTIMEZONE
BEGIN:VEVENT
DTSTART;VALUE=DATE:20241104
DTEND;VALUE=DATE:20341106
DTSTAMP:20260423T215005
CREATED:20241105T145235Z
LAST-MODIFIED:20241105T153150Z
UID:4796-1730678400-2046383999@cnftfactory.com
SUMMARY:$BABA - SOL
DESCRIPTION:he neglected brother of PEPE. While PEPE was off chasing success\, poor BABA was left in the dust\, feeling grumpy and depressed. Watching everyone rave about his brother PEPE’s achievements\, BABA decided he’d had enough and vowed to outshine him in the crypto world. Determined to make a splash\, BABA promised success\, abundant gains for his followers\, and to get into the best crypto shape ever! \n  \nwww.babatoken.com
URL:https://cnftfactory.com/event/baba-sol/
ATTACH;FMTTYPE=image/png:https://cnftfactory.com/wp-content/uploads/2024/11/IMG_3385.png
END:VEVENT
BEGIN:VEVENT
DTSTART;VALUE=DATE:20241105
DTEND;VALUE=DATE:20341106
DTSTAMP:20260423T215005
CREATED:20241105T173321Z
LAST-MODIFIED:20241105T173321Z
UID:4829-1730764800-2046383999@cnftfactory.com
SUMMARY:$BABYSNEK - ADA
DESCRIPTION:A chill\, creative\, and community-driven Memecoin project slithering its way through the Cardano blockchain. Inspired by iconic Memetokens like $SNEK\, $PEPE\, $SHIBA and $DOGE\, we’re here to Swap\, Grow\, Learn\, Connect\, Shop\, Burn\, Lock\, and Load. \nJoin our sssslithering community and be part of this wild\, ridiculous\, and utterly fun journey. Embrace the absurdity—because that’s what makes it all worth it! \nhttps://x.com/BabySNEKtoken \nbabysnek.io \nBabySNEK // v.0.9.9.5
URL:https://cnftfactory.com/event/babysnek-ada/
ATTACH;FMTTYPE=image/png:https://cnftfactory.com/wp-content/uploads/2024/11/IMG_3398.png
END:VEVENT
BEGIN:VEVENT
DTSTART;VALUE=DATE:20241105
DTEND;VALUE=DATE:20341106
DTSTAMP:20260423T215005
CREATED:20241105T173935Z
LAST-MODIFIED:20241105T173935Z
UID:4831-1730764800-2046383999@cnftfactory.com
SUMMARY:$POPCAT - SOL
DESCRIPTION:Popcat is an Internet meme originating in October 2020\, in a series of videos which showcase two images of a domestic short-haired cat named ‘Oatmeal’\, where one image has its mouth closed and the other has its mouth open\, with the second image being edited to give its mouth an ‘O’ shape. \nabout.popcatsolana.xyz/ \nPopcat | $POPCAT \nx.com/POPCATSOLANA \nProfile / X
URL:https://cnftfactory.com/event/popcat-sol/
ATTACH;FMTTYPE=image/png:https://cnftfactory.com/wp-content/uploads/2024/11/IMG_3396.png
END:VEVENT
BEGIN:VEVENT
DTSTART;VALUE=DATE:20241105
DTEND;VALUE=DATE:20341106
DTSTAMP:20260423T215005
CREATED:20241105T174317Z
LAST-MODIFIED:20241105T174317Z
UID:4833-1730764800-2046383999@cnftfactory.com
SUMMARY:$POX - SOL
DESCRIPTION:POX is an SPL-404 token on Solana\, blending memecoin and NFT cultures into one.\nhttps://x.com/monkeypoxsol \nMonkey Pox Labs \n  \nwww.monkeypoxtoken.com/
URL:https://cnftfactory.com/event/pox-sol/
ATTACH;FMTTYPE=image/png:https://cnftfactory.com/wp-content/uploads/2024/11/IMG_3395.png
END:VEVENT
BEGIN:VEVENT
DTSTART;VALUE=DATE:20241105
DTEND;VALUE=DATE:20341106
DTSTAMP:20260423T215005
CREATED:20241105T174558Z
LAST-MODIFIED:20241105T174558Z
UID:4835-1730764800-2046383999@cnftfactory.com
SUMMARY:$SHARL - ADA
DESCRIPTION:$SHARL Huskens\nThe first peer reviewed meme & memecoin \nFunder of #1 POS (Piece of Shit) blockchain \n\n\n\n$SHARL\nhttps://sharl.world/#\nhttps://x.com/sharlhuskens\n\nhttps://discord.gg/JtPqNKEjhh\nhttps://tiktok.com/@sharlhuskens
URL:https://cnftfactory.com/event/sharl-ada/
ATTACH;FMTTYPE=image/png:https://cnftfactory.com/wp-content/uploads/2024/11/IMG_3397.png
END:VEVENT
BEGIN:VEVENT
DTSTART;TZID=UTC:20241105T000000
DTEND;TZID=UTC:20341105T000000
DTSTAMP:20260423T215005
CREATED:20241105T172728Z
LAST-MODIFIED:20241105T172728Z
UID:4823-1730764800-2046297600@cnftfactory.com
SUMMARY:$NIKE - ADA
DESCRIPTION:This is a memecoin about Charles Hoskinson pet pig. The project is being run by a CTO group. \nwww.nikepig.com \nhttps://x.com/nike_hoskinson
URL:https://cnftfactory.com/event/nike-ada/
ATTACH;FMTTYPE=image/png:https://cnftfactory.com/wp-content/uploads/2024/11/IMG_3399.png
END:VEVENT
BEGIN:VEVENT
DTSTART;TZID=UTC:20241105T000000
DTEND;TZID=UTC:20341105T000000
DTSTAMP:20260423T215005
CREATED:20241105T173030Z
LAST-MODIFIED:20241105T173030Z
UID:4827-1730764800-2046297600@cnftfactory.com
SUMMARY:$FREN - ADA
DESCRIPTION:Peepo for teh culture!\nOn Dec 16th 2023\, ADA Peepos rocked teh Cardona space with a free / 5 ADA mint. In a very short time\, peepos memed their way to teh top of the charts and a stronk af community was born. \nThrough the sheer meme power of the community and their hunger for geniraytional welth\, a token of unrivaled meme potential was created. $FREN token was born! \nhttps://www.adapeepos.com/ \nhttps://twitter.com/FREN_ADA \nhttps://discord.gg/fren \n 
URL:https://cnftfactory.com/event/fren-ada/
ATTACH;FMTTYPE=image/png:https://cnftfactory.com/wp-content/uploads/2024/11/IMG_3400.png
END:VEVENT
BEGIN:VEVENT
DTSTART;TZID=UTC:20241105T000000
DTEND;TZID=UTC:20341105T235900
DTSTAMP:20260423T215005
CREATED:20241105T142011Z
LAST-MODIFIED:20241105T145657Z
UID:4776-1730764800-2046383940@cnftfactory.com
SUMMARY:$NPCS - SOL
DESCRIPTION:NPCS. – The Degen derivatives to the most memeable meme of all time\, Wojak. and brought to life on the Solana blockchain. Embodying the spirit of the memecoin community\, NPCS represents the excitement and unpredictability of the cryptocurrency world\, specifically catering to memecoin enthusiasts through high-quality original memes and animations. \nHome | NPC Solana
URL:https://cnftfactory.com/event/npcs-sol/
ATTACH;FMTTYPE=image/png:https://cnftfactory.com/wp-content/uploads/2024/11/IMG_3380.png
END:VEVENT
BEGIN:VEVENT
DTSTART;TZID=UTC:20241105T000000
DTEND;TZID=UTC:20341105T235900
DTSTAMP:20260423T215005
CREATED:20241105T142233Z
LAST-MODIFIED:20241105T145818Z
UID:4778-1730764800-2046383940@cnftfactory.com
SUMMARY:$SNEK - ADA
DESCRIPTION:About Snek\n\nSNEK is a deflationary memecoin launched on Cardano. It has become a cultural movement and an icon in the web3 world\, representing fun and innovation.\nSNEK is the most traded token on Cardano and a unifying force within the ecosystem. It brings excitement to its community and plays a leading role in making the crypto space accessible\, engaging\, and meaningful. With its roots in internet culture and fueled by a dedicated online community\, Snek serves as a vital bridge for web3 onboarding.\nLike other popular memecoins\, such as Pepe\, Bonk\, Shiba Inu\, and Dogecoin\, SNEK has established itself as one of the top meme-based community-driven cryptocurrencies. It pushes the limits of what a memecoin can achieve\, with a vision to bring social and decentralized finance within and beyond the Cardano ecosystem.\n\n\nhttps://www.snek.com/
URL:https://cnftfactory.com/event/snek-ada/
ATTACH;FMTTYPE=image/png:https://cnftfactory.com/wp-content/uploads/2024/11/IMG_3386.png
END:VEVENT
BEGIN:VEVENT
DTSTART;TZID=UTC:20241105T000000
DTEND;TZID=UTC:20341105T235900
DTSTAMP:20260423T215005
CREATED:20241105T142514Z
LAST-MODIFIED:20241105T145350Z
UID:4780-1730764800-2046383940@cnftfactory.com
SUMMARY:$DUBCAT - SOL
DESCRIPTION:Dubcat is your sophisticated Degen DJ cat on the blockchain- join our parties as we journey on epic crypto adventures\, blending nightlife vibes with building wealth. Join a community where every token is a VIP pass to exclusive events\, insider sessions\, and the chance to be part of a movement that’s shaking up the crypto scene. Led by seasoned pros\, Dubcat incubates promising CTOS\, turning rugged visions into reality while keeping the party—and profits—rolling. \nhttps://www.dubcat.club/
URL:https://cnftfactory.com/event/dubcat-sol/
ATTACH;FMTTYPE=image/png:https://cnftfactory.com/wp-content/uploads/2024/11/IMG_3372.png
END:VEVENT
BEGIN:VEVENT
DTSTART;TZID=UTC:20241105T080000
DTEND;TZID=UTC:20341105T170000
DTSTAMP:20260423T215005
CREATED:20241105T145123Z
LAST-MODIFIED:20241105T145400Z
UID:4794-1730793600-2046358800@cnftfactory.com
SUMMARY:$DANZO - ADA
DESCRIPTION:$DANZO COMES FROM THE ANCIENT TRIBE OF CARDANZONIANS. THIS TRIBE BUILT OUROBOROS\, BUT HISTORIANS SAY THEY DIDN’T HAVE THE TOOLS NECESSARY. MYTH SAYS CARDANZONIANS HAD HELP FROM OTHER ENTITIES LIKE @IOHK_Charles AND IOHK IN GENERAL \nDANZO
URL:https://cnftfactory.com/event/danzo-ada/
ATTACH;FMTTYPE=image/png:https://cnftfactory.com/wp-content/uploads/2024/11/IMG_3387.png
END:VEVENT
END:VCALENDAR